BEGIN:VCALENDAR
VERSION:2.0
PRODID:-//ChamberMaster//Event Calendar 2.0//EN
METHOD:PUBLISH
X-PUBLISHED-TTL:P3D
REFRESH-INTERVAL:P3D
CALSCALE:GREGORIAN
BEGIN:VEVENT
DTSTART:20190726T010000Z
DTEND:20190726T043000Z
X-MICROSOFT-CDO-ALLDAYEVENT:FALSE
SUMMARY:Focus Group Discussion: Government Procurement for Healthcare in the Era of Universal Healthcare Coverage (UHC)
DESCRIPTION:
X-ALT-DESC;FMTTYPE=text/html:
LOCATION:Menara Astra\, 36th Floor (Meeting Room 36 E) Jl. Jend. Sudirman Kav. 5 Jakarta\, Indonesia 10220
UID:e.9078.7966
SEQUENCE:3
DTSTAMP:20260425T001945Z
URL:http://usasean.memberzone.com/events/details/focus-group-discussion-government-procurement-for-healthcare-in-the-era-of-universal-healthcare-coverage-uhc-7966
END:VEVENT

END:VCALENDAR
