BEGIN:VCALENDAR
VERSION:2.0
PRODID:-//ChamberMaster//Event Calendar 2.0//EN
METHOD:PUBLISH
X-PUBLISHED-TTL:P3D
REFRESH-INTERVAL:P3D
CALSCALE:GREGORIAN
BEGIN:VEVENT
DTSTART:20211005T010000Z
DTEND:20211005T020000Z
X-MICROSOFT-CDO-ALLDAYEVENT:FALSE
SUMMARY:First Planning call for the Virtual Business Mission to the 43 AMAF
DESCRIPTION:First Planning Call for the Virtual Business Mission to the 43 AMAF
X-ALT-DESC;FMTTYPE=text/html:First Planning Call for the Virtual Business Mission to the 43 AMAF
LOCATION:
UID:e.9078.8583
SEQUENCE:3
DTSTAMP:20260423T045141Z
URL:http://usasean.memberzone.com/events/details/first-planning-call-for-the-virtual-business-mission-to-the-43-amaf-8583
END:VEVENT

END:VCALENDAR
