BEGIN:VCALENDAR
VERSION:2.0
PRODID:-//ChamberMaster//Event Calendar 2.0//EN
METHOD:PUBLISH
X-PUBLISHED-TTL:P3D
REFRESH-INTERVAL:P3D
CALSCALE:GREGORIAN
BEGIN:VEVENT
DTSTART:20180222T020000Z
DTEND:20180222T030000Z
X-MICROSOFT-CDO-ALLDAYEVENT:FALSE
SUMMARY:First Planning Call for the Mission to the ASEAN Finance Ministers and Central Bank Governors Meeting\, 2018
DESCRIPTION:Please join us for the first planning call for the Council's Mission to the ASEAN Finance Ministers and Central Bank Governors Meeting. The call will begin with a briefing from the U.S. Treasury and then discuss the Mission\, logistics\, and the agenda for the delegation's consultation with the Minsters and Governors.
X-ALT-DESC;FMTTYPE=text/html:Please join us for the first planning call for the Council&#39\;s Mission to the ASEAN Finance Ministers and Central Bank Governors Meeting. The call will begin with a briefing from the U.S. Treasury and then discuss the Mission\, logistics\, and the agenda for the delegation&#39\;s consultation with the Minsters and Governors.
LOCATION:Conference call (numbers will be distributed to registrants prior to the call)
UID:e.9078.6468
SEQUENCE:3
DTSTAMP:20260419T164837Z
URL:http://usasean.memberzone.com/events/details/first-planning-call-for-the-mission-to-the-asean-finance-ministers-and-central-bank-governors-meeting-2018-6468
END:VEVENT

END:VCALENDAR
