BEGIN:VCALENDAR
VERSION:2.0
PRODID:-//ChamberMaster//Event Calendar 2.0//EN
METHOD:PUBLISH
X-PUBLISHED-TTL:P3D
REFRESH-INTERVAL:P3D
CALSCALE:GREGORIAN
BEGIN:VEVENT
DTSTART:20180918T020000Z
DTEND:20180918T030000Z
X-MICROSOFT-CDO-ALLDAYEVENT:FALSE
SUMMARY:First Planning Call for the Business Mission to 40th ASEAN Ministerial Meeting on Agriculture and Forestry (AMAF)
DESCRIPTION:First Planning Call for the Business Mission to the 40th ASEAN Ministerial Meeting on Agriculture and Forestry (AMAF) (October 11-12\, 2018\, Hanoi)
X-ALT-DESC;FMTTYPE=text/html:First Planning Call for the Business Mission to the 40th ASEAN Ministerial Meeting on Agriculture and Forestry (AMAF) (October 11-12\, 2018\, Hanoi)&nbsp\;
LOCATION:
UID:e.9078.7678
SEQUENCE:3
DTSTAMP:20260420T053809Z
URL:http://usasean.memberzone.com/events/details/first-planning-call-for-the-business-mission-to-40th-asean-ministerial-meeting-on-agriculture-and-forestry-amaf-7678
END:VEVENT

END:VCALENDAR
