BEGIN:VCALENDAR
VERSION:2.0
PRODID:-//ChamberMaster//Event Calendar 2.0//EN
METHOD:PUBLISH
X-PUBLISHED-TTL:P3D
REFRESH-INTERVAL:P3D
CALSCALE:GREGORIAN
BEGIN:VEVENT
DTSTART:20190722T013000Z
DTEND:20190722T023000Z
X-MICROSOFT-CDO-ALLDAYEVENT:FALSE
SUMMARY:First Planning Call for the 2019 Thailand Business Mission
DESCRIPTION:Please join us for our first planning call for the upcoming 2019 Thailand Business Mission (August 13-16). Click here to register for the mission.\n\n\n\nDuring the first part of the call\, Mr. Peter Haymond\, Charg  d'affaires of the U.S. Embassy\, Bangkok\, will provide a briefing on the latest political and economic developments in Thailand as well as an overview on current U.S.-Thailand relations. A short Q&A will follow Mr. Haymond's remarks. A biography of Charg  d'affaires Haymond can be accessed here.\n\n\n\nThe second part of the call will focus on the 2019 Thailand Business Mission\, where we will review meeting targets and mission themes and ask for feedback. All members who are participating or considering participating in the mission are highly encouraged to join the call.\n\n\n\nPlease contact Ella Duangkaew (eduangkaew@usasean.org) with any questions or input for the call.
X-ALT-DESC;FMTTYPE=text/html:<span style="font-family:arial\,sans-serif\;"><span style="font-size:12.0pt\;">Please join us for our first&nbsp\;planning call for the upcoming 2019&nbsp\;Thailand Business Mission (August 13-16).&nbsp\;<a href="https://protect-us.mimecast.com/s/A7KAC68Mr3fVWXlumfXdA">Click here to register for the mission</a>.<br />\n<br />\n<span style="color:black\;">During the first part of the call\, Mr. Peter Haymond\,&nbsp\;</span></span></span><span style="font-family: Roboto\, Arial\, sans-serif\; font-size: 16px\;">Charg&eacute\; d&rsquo\;affaires of the U.S. Embassy\, Bangkok</span><span style="font-family:arial\,sans-serif\;"><span style="font-size:12.0pt\;"><span style="color:black\;">\, will provide a briefing on the&nbsp\;latest political and economic developments in Thailand as well as an overview on current U.S.-Thailand relations. A short Q&amp\;A will follow Mr. Haymond&#39\;s remarks. A biography of </span></span></span><span style="font-family: Roboto\, Arial\, sans-serif\; font-size: 16px\;">Charg&eacute\; d&rsquo\;affaires&nbsp\;</span><span style="font-family:arial\,sans-serif\;"><span style="font-size:12.0pt\;"><span style="color:black\;">Haymond can be</span> <a href="https://th.usembassy.gov/our-relationship/our-ambassador/">accessed here</a>.<br />\n<br />\n<span style="color:black\;">The second part of the call will focus on the 2019&nbsp\;Thailand Business Mission\, where we will review meeting targets and mission themes and ask for feedback.&nbsp\;All members who are participating or considering participating in the mission are highly encouraged to join the call.</span></span></span><br />\n<br />\n<span style="color:black\;"><span style="font-size: 12pt\;"><font face="arial\, sans-serif">Please contact Ella Duangkaew (eduangkaew@usasean.org)&nbsp\;with any questions or input for the call.</font></span></span>
LOCATION:Dial-in details will be distributed to registrants prior to call
UID:e.9078.7959
SEQUENCE:3
DTSTAMP:20260425T001839Z
URL:http://usasean.memberzone.com/events/details/first-planning-call-for-the-2019-thailand-business-mission-7959
END:VEVENT

END:VCALENDAR
