BEGIN:VCALENDAR
VERSION:2.0
PRODID:-//ChamberMaster//Event Calendar 2.0//EN
METHOD:PUBLISH
X-PUBLISHED-TTL:P3D
REFRESH-INTERVAL:P3D
CALSCALE:GREGORIAN
BEGIN:VEVENT
DTSTART:20190717T010000Z
DTEND:20190717T020000Z
X-MICROSOFT-CDO-ALLDAYEVENT:FALSE
SUMMARY:First Planning Call for the 2019 Malaysia Business Mission
DESCRIPTION:Please join us for our first planning call for the 2019 Malaysia Business Mission (August 20-22).
X-ALT-DESC;FMTTYPE=text/html:Please join us for our first planning call for the 2019 Malaysia Business Mission (August 20-22).&nbsp\;
LOCATION:Call-in details and agenda will be distributed to registrants prior to the call.
UID:e.9078.7939
SEQUENCE:3
DTSTAMP:20260425T001839Z
URL:http://usasean.memberzone.com/events/details/first-planning-call-for-the-2019-malaysia-business-mission-7939
END:VEVENT

END:VCALENDAR
