BEGIN:VCALENDAR
VERSION:2.0
PRODID:-//ChamberMaster//Event Calendar 2.0//EN
METHOD:PUBLISH
X-PUBLISHED-TTL:P3D
REFRESH-INTERVAL:P3D
CALSCALE:GREGORIAN
BEGIN:VEVENT
DTSTART:20181019T020000Z
DTEND:20181019T030000Z
X-MICROSOFT-CDO-ALLDAYEVENT:FALSE
SUMMARY:First Planning Call for Business Mission to 24th ATM
DESCRIPTION:First Planning Call for Business Mission to the 24th ASEAN Transport Ministers Meeting
X-ALT-DESC;FMTTYPE=text/html:First Planning Call for Business Mission to the 24th ASEAN Transport Ministers Meeting
LOCATION:Conference Call
UID:e.9078.7719
SEQUENCE:3
DTSTAMP:20260420T070210Z
URL:http://usasean.memberzone.com/events/details/first-planning-call-for-business-mission-to-24th-atm-7719
END:VEVENT

END:VCALENDAR
