BEGIN:VCALENDAR
VERSION:2.0
PRODID:-//ChamberMaster//Event Calendar 2.0//EN
METHOD:PUBLISH
X-PUBLISHED-TTL:P3D
REFRESH-INTERVAL:P3D
CALSCALE:GREGORIAN
BEGIN:VEVENT
DTSTART:20240408T133000Z
DTEND:20240408T143000Z
X-MICROSOFT-CDO-ALLDAYEVENT:FALSE
SUMMARY:First Planning Call for 2024 Malaysia Business Mission feat. Amb Nazri Aziz
DESCRIPTION:The US-ASEAN Business Council is organizing the first planning call to the 2024 Malaysia Business Mission featuring the Ambassador of Malaysia to the United States\, H.E. Dato' Seri Mohamed Nazri Abdul Aziz\, with the following agenda:\n\n \n1. Economic Briefing by Amb. Nazri (09:30 - 09:45 pm DC time)\n\n\n	 Malaysia's 2024 economic priorities\n	US-Malaysia 2024 economic priorities \n	Malaysia's priorities on the Indo-Pacific Economic Framework (IPEF)\n	Malaysia's ASEAN Chairmanship 2025 vision\n	Roundtable Luncheon in honor of Malaysia Finance Minister & Central bank Governor on April 18\n\n\n  2. Overview of the Business Mission (9:45 - 10:15 pm DC time)\n\n\n	List of proposed meeting and initial updates\n	Registration\, talking points & socioeconomic report\n	Administrative\, logsitics\, travel requirements\n	Accommodation arrangement\n	Q&A moderated by US-ABC
X-ALT-DESC;FMTTYPE=text/html:<span style="text-align: justify\; font-size: 14px\;"><span style="font-family: arial\;">The US-ASEAN Business Council is organizing the first planning call to the 2024 Malaysia&nbsp\;Business Mission featuring the Ambassador of Malaysia to the United States\, H.E. Dato&#39\; Seri Mohamed Nazri Abdul Aziz\, with the following agenda:</span></span><br />\n&nbsp\;\n<p style="text-align: justify\; font-size: 16px\; caret-color: rgb(33\, 33\, 33)\; color: rgb(33\, 33\, 33)\; font-family: Arial\;"><span style="font-size: 14px\; line-height: 1.2\;"><span style="font-family: arial\;">1.&nbsp\;Economic Briefing by Amb. Nazri&nbsp\;(09:30 - 09:45 pm DC time)</span></span></p>\n\n<ul style="caret-color: rgb(33\, 33\, 33)\; color: rgb(33\, 33\, 33)\; text-align: center\;">\n	<li style="font-family: Arial\; font-size: 16px\; text-align: left\;"><span style="font-size: 14px\; line-height: 1.2\;"><span style="font-family: arial\;">&#8203\;Malaysia&#39\;s 2024&nbsp\;</span></span><span style="font-family: arial\; font-size: 14px\; line-height: 1.2\;">economic priorities</span></li>\n	<li style="font-family: Arial\; font-size: 16px\; text-align: left\;"><span style="font-family: arial\; font-size: 14px\;">US-Malaysia 2024 economic priorities&nbsp\;</span></li>\n	<li style="font-family: Arial\; font-size: 16px\; text-align: left\;"><span style="font-family: arial\; font-size: 14px\; line-height: 1.2\;">Malaysia&#39\;s&nbsp\;priorities on the Indo-Pacific Economic Framework (IPEF)</span></li>\n	<li style="font-family: Arial\; font-size: 16px\; text-align: left\;"><span style="font-family: arial\; font-size: 14px\; line-height: 1.2\;">Malaysia&#39\;s ASEAN Chairmanship 2025 vision</span></li>\n	<li style="text-align: left\;"><font face="arial"><span style="font-size: 14px\;">Roundtable Luncheon in honor of Malaysia&nbsp\;Finance Minister &amp\; Central bank Governor on April 18</span></font></li>\n</ul>\n\n<p style="text-align: justify\; font-size: 16px\; caret-color: rgb(33\, 33\, 33)\; color: rgb(33\, 33\, 33)\; font-family: Arial\;">&#8203\;&#8203\;2.&nbsp\;<span style="font-size: 14px\; line-height: 1.2\;"><span style="font-family: arial\;">Overview of the Business Mission (</span></span><span style="font-family: arial\; font-size: 14px\; line-height: 1.2\;">9:45 - 10:15 pm DC time)</span></p>\n\n<ul style="font-size: 16px\; caret-color: rgb(33\, 33\, 33)\; color: rgb(33\, 33\, 33)\; font-family: Arial\; text-align: center\;">\n	<li style="text-align: left\;"><span style="font-size: 14px\; line-height: 1.2\;"><span style="font-family: arial\;">List of proposed meeting and initial updates</span></span></li>\n	<li style="text-align: left\;"><span style="font-size: 14px\; line-height: 1.2\;"><span style="font-family: arial\;">Registration\, talking points &amp\; socioeconomic report</span></span></li>\n	<li style="text-align: left\;"><span style="font-size: 14px\; line-height: 1.2\;"><span style="font-family: arial\;">Administrative\, logsitics\, travel</span></span><span style="font-size: 14px\; line-height: 1.2\;"><span style="font-family: arial\;">&nbsp\;requirements</span></span></li>\n	<li style="text-align: left\;"><span style="font-size: 14px\; line-height: 1.2\;"><span style="font-family: arial\;">Accommodation arrangement</span></span></li>\n	<li style="text-align: left\;"><span style="font-size: 14px\; line-height: 1.2\;"><span style="font-family: arial\;">Q&amp\;A moderated by US-ABC</span></span></li>\n	<li>&nbsp\;</li>\n</ul>\n
LOCATION:Virtual. Zoom dial-in details will be provided upon registration.
UID:e.9078.9271
SEQUENCE:3
DTSTAMP:20260422T071924Z
URL:http://usasean.memberzone.com/events/details/first-planning-call-for-2024-malaysia-business-mission-feat-amb-nazri-aziz-9271
END:VEVENT

END:VCALENDAR
