BEGIN:VCALENDAR
VERSION:2.0
PRODID:-//ChamberMaster//Event Calendar 2.0//EN
METHOD:PUBLISH
X-PUBLISHED-TTL:P3D
REFRESH-INTERVAL:P3D
CALSCALE:GREGORIAN
BEGIN:VEVENT
DTSTART:20140401T134500Z
DTEND:20140401T170000Z
X-MICROSOFT-CDO-ALLDAYEVENT:FALSE
SUMMARY:First IICF Executive Committee Meeting
DESCRIPTION:Please join us for the first Executive Committee meeting of the Indonesia ICT Consultative Forum (IICF). This meeting will serve to coordinate Ministerial and other stakeholder participation and support. The meeting will be followed by a networking lunch. For more informaiton on the meeting and agenda\, click here.\n\n \n\nThe IICF is an initiative led by the US-ASEAN Business Council and Indonesia's Coordinating Ministry for Economic Affairs. A joint consultative body will be formed comprised of Government of Indonesia officials and representatives of the international and domestic ICT private sector. This Forum will create a collaborative platform between government and industry to support Indonesia's long-term industrial policy of building a local ICT industry and our shared goal of creating an innovation and knowledge economy in Indonesia.
X-ALT-DESC;FMTTYPE=text/html:<span style="font-family:arial\,sans-serif\;"><span style="font-size:10.0pt\;">Please join us for the first Executive Committee meeting of the Indonesia ICT Consultative Forum (IICF). This meeting will serve to coordinate Ministerial and other stakeholder participation and support. The meeting will be followed by a networking lunch.</span></span> <span style="font-family:arial\,sans-serif\;"><span style="font-size:10.5pt\;"><a href="http://cloud.chambermaster.com/userfiles/UserFiles/chambers/9078/File/ICT/IICFApril1stMeetingEventInformation.pdf">For more informaiton on the meeting and agenda\, click here</a></span></span><strong><span style="font-family:arial\,sans-serif\;"><span style="font-size:10.0pt\;">.</span></span></strong><br />\n&nbsp\;<br />\n<span style="font-family:arial\,sans-serif\;"><span style="font-size:10.0pt\;">The IICF is an initiative led by the US-ASEAN Business Council and Indonesia&rsquo\;s Coordinating Ministry for Economic Affairs. A joint consultative body will be formed comprised of Government of Indonesia officials and representatives of the international and domestic ICT private sector. This Forum will create a collaborative platform between government and industry to support Indonesia&rsquo\;s long-term industrial policy of building a local ICT industry and our shared goal of creating an innovation and knowledge economy in Indonesia.</span></span>
LOCATION:Jakarta\, Indonesia Venue details will be provided to registrants prior to the meeting.
UID:e.9078.1097
SEQUENCE:3
DTSTAMP:20260420T174215Z
URL:http://usasean.memberzone.com/events/details/first-iicf-executive-committee-meeting-04-01-2014-1097
END:VEVENT

END:VCALENDAR
