BEGIN:VCALENDAR
VERSION:2.0
PRODID:-//ChamberMaster//Event Calendar 2.0//EN
METHOD:PUBLISH
X-PUBLISHED-TTL:P3D
REFRESH-INTERVAL:P3D
CALSCALE:GREGORIAN
BEGIN:VEVENT
DTSTART:20131101T003000Z
DTEND:20131101T013000Z
X-MICROSOFT-CDO-ALLDAYEVENT:FALSE
SUMMARY:First Conference Call 2013 Malaysia Business Mission
DESCRIPTION:Toll-free dial-in number (U.S. and Canada):\n\n(877) 505-1427\n\n\n\nInternational dial-in number:\n\n(281) 319-9194\n\n\n\nConference code: \n\n6853245105
X-ALT-DESC;FMTTYPE=text/html:<br />\n<span style="font-size:16px\;"><span style="font-family:arial\;"><strong>Toll-free dial-in number (U.S. and Canada):</strong><br />\n(877) 505-1427<br />\n<br />\n<strong>International dial-in number:</strong><br />\n(281) 319-9194<br />\n<br />\n<strong>Conference code: </strong><br />\n6853245105</span></span>
LOCATION:Conference Call
UID:e.9078.964
SEQUENCE:3
DTSTAMP:20260421T105720Z
URL:http://usasean.memberzone.com/events/details/first-conference-call-2013-malaysia-business-mission-10-31-2013-964
END:VEVENT

END:VCALENDAR
