BEGIN:VCALENDAR
VERSION:2.0
PRODID:-//ChamberMaster//Event Calendar 2.0//EN
METHOD:PUBLISH
X-PUBLISHED-TTL:P3D
REFRESH-INTERVAL:P3D
CALSCALE:GREGORIAN
BEGIN:VEVENT
DTSTART:20140123T130000Z
DTEND:20140123T140000Z
X-MICROSOFT-CDO-ALLDAYEVENT:FALSE
SUMMARY:Financial Services Quarterly Call
DESCRIPTION:Please join us to discuss the Financial Services Committee's programs\, messaging and priorities for 2014. We will specifically discuss:\n\n\n\n1. The 2014 ASEAN Finance Minister's Meeting \n\n2. The 2014 Financial Services Committee Work Plan
X-ALT-DESC;FMTTYPE=text/html:<span style="font-family: arial\; font-size: 16px\; text-align: center\;">Please join us to discuss the Financial Services&nbsp\;Committee&#39\;s programs\, messaging&nbsp\;and&nbsp\;priorities&nbsp\;for 2014. We will specifically discuss:</span><br style="font-family: arial\; font-size: 16px\; text-align: center\;" />\n<br style="font-family: arial\; font-size: 16px\; text-align: center\;" />\n<span style="font-family: arial\; font-size: 16px\; text-align: center\;">1. The 2014 ASEAN Finance Minister&#39\;s Meeting&nbsp\;</span><br style="font-family: arial\; font-size: 16px\; text-align: center\;" />\n<span style="font-family: arial\; font-size: 16px\; text-align: center\;">2. The 2014 Financial Services Committee Work Plan</span>
LOCATION:Conference call details will be distributed to registrants prior to the call.
UID:e.9078.1007
SEQUENCE:3
DTSTAMP:20260421T035450Z
URL:http://usasean.memberzone.com/events/details/financial-services-quarterly-call-01-23-2014-1007
END:VEVENT

END:VCALENDAR
