BEGIN:VCALENDAR
VERSION:2.0
PRODID:-//ChamberMaster//Event Calendar 2.0//EN
METHOD:PUBLISH
X-PUBLISHED-TTL:P3D
REFRESH-INTERVAL:P3D
CALSCALE:GREGORIAN
BEGIN:VEVENT
DTSTART:20150430T013000Z
DTEND:20150430T023000Z
X-MICROSOFT-CDO-ALLDAYEVENT:FALSE
SUMMARY:Financial Services Committee Quarterly Conference Call - Q2 2015
DESCRIPTION:Please join us to discuss the Financial Services Committee's messaging\, priorities and programs for the remainder of 2015.  Participants are kindly requested to consult the updated committee work plan prior to the call.  The work plan can be downloaded here.  A call agenda will be circulated to registrants prior to the call.\n\n\n\nFor additional information and/or suggestions for topics you would like to include in the work plan and discuss on this call\, please contact John Corrigan at jcorrigan@usasean.org or Shay Wester at swester@usasean.org.
X-ALT-DESC;FMTTYPE=text/html:<span style="font-family:arial\,sans-serif\;"><span style="font-size:12.0pt\;">Please join us to discuss the Financial Services&nbsp\;Committee&#39\;s messaging\, priorities and programs for the remainder of 2015. &nbsp\;Participants are kindly requested&nbsp\;to consult the updated committee work plan prior to the call. &nbsp\;The work plan can be downloaded <strong><a href="http://cloud.chambermaster.com/userfiles/UserFiles/chambers/9078/File/FinancialServicesCommittee2015WorkPlandraft.pdf">here</a></strong>. &nbsp\;A call agenda will be circulated to registrants prior to the call.<br />\n<br />\nFor additional information and/or suggestions for&nbsp\;topics you would like to include in the work plan and&nbsp\;discuss on this call\, please contact John Corrigan at <a href="mailto:jcorrigan@usasean.org">jcorrigan@usasean.org</a> or Shay Wester at <a href="mailto:swester@usasean.org">swester@usasean.org</a>.</span></span>
LOCATION:
UID:e.9078.1532
SEQUENCE:3
DTSTAMP:20260419T172101Z
URL:http://usasean.memberzone.com/events/details/financial-services-committee-quarterly-conference-call-q2-2015-04-29-2015-1532
END:VEVENT

END:VCALENDAR
