BEGIN:VCALENDAR
VERSION:2.0
PRODID:-//ChamberMaster//Event Calendar 2.0//EN
METHOD:PUBLISH
X-PUBLISHED-TTL:P3D
REFRESH-INTERVAL:P3D
CALSCALE:GREGORIAN
BEGIN:VEVENT
DTSTART:20140903T130000Z
DTEND:20140903T140000Z
X-MICROSOFT-CDO-ALLDAYEVENT:FALSE
SUMMARY:Financial Services Committee Quarterly Call\, 9/3/14
DESCRIPTION:Please join us to discuss the Financial Services Committee's messaging\, priorities\, and programs for the remainder of 2014 and into 2015.  A copy of the 2014 Financial Services Committee Work Plan can be found here.  An agenda for the call will be circulated in a later update prior to the call.\n\n\n\nIf there are specific topics you would like to discuss on this call\, please submit them to John Corrigan at jcorrigan@usasean.org.
X-ALT-DESC;FMTTYPE=text/html:<span style="font-family:arial\;"><span style="font-size:14px\;">Please join us to discuss the Financial Services Committee&#39\;s messaging\, priorities\, and programs for the remainder of 2014 and into 2015. &nbsp\;A copy of the 2014 Financial Services Committee Work Plan can be found&nbsp\;<a href="http://cloud.chambermaster.com/userfiles/UserFiles/chambers/9078/File/2014FinancialServicesCommitteeWorkPlanDraft3.pdf">here</a>. &nbsp\;An agenda for the call will be circulated in a later update prior to the call.<br />\n<br />\nIf there are specific topics you would like to discuss on this call\, please submit them to John Corrigan at <a href="mailto:jcorrigan@usasean.org">jcorrigan@usasean.org</a>.</span></span>
LOCATION:
UID:e.9078.1232
SEQUENCE:3
DTSTAMP:20260420T055351Z
URL:http://usasean.memberzone.com/events/details/financial-services-committee-quarterly-call-9-3-14-09-03-2014-1232
END:VEVENT

END:VCALENDAR
