BEGIN:VCALENDAR
VERSION:2.0
PRODID:-//ChamberMaster//Event Calendar 2.0//EN
METHOD:PUBLISH
X-PUBLISHED-TTL:P3D
REFRESH-INTERVAL:P3D
CALSCALE:GREGORIAN
BEGIN:VEVENT
DTSTART:20190805T010000Z
DTEND:20190805T020000Z
X-MICROSOFT-CDO-ALLDAYEVENT:FALSE
SUMMARY:Financial Services Committee Call
DESCRIPTION:Financial Services Committee-wide Call
X-ALT-DESC;FMTTYPE=text/html:Financial Services Committee-wide Call
LOCATION:
UID:e.9078.7979
SEQUENCE:3
DTSTAMP:20260424T223926Z
URL:http://usasean.memberzone.com/events/details/financial-services-committee-call-7979
END:VEVENT

END:VCALENDAR
