BEGIN:VCALENDAR
VERSION:2.0
PRODID:-//ChamberMaster//Event Calendar 2.0//EN
METHOD:PUBLISH
X-PUBLISHED-TTL:P3D
REFRESH-INTERVAL:P3D
CALSCALE:GREGORIAN
BEGIN:VEVENT
DTSTART:20220218T010000Z
DTEND:20220218T023000Z
X-MICROSOFT-CDO-ALLDAYEVENT:FALSE
SUMMARY:Financial Services Committee Briefing - Sustainable Finance Institute
DESCRIPTION:Please contact Alberto Coria (acoria@usasean.org) for further information.
X-ALT-DESC;FMTTYPE=text/html:Please contact Alberto Coria (acoria@usasean.org) for further information.&nbsp\;
LOCATION:
UID:e.9078.8707
SEQUENCE:3
DTSTAMP:20260422T193956Z
URL:http://usasean.memberzone.com/events/details/financial-services-committee-briefing-sustainable-finance-institute-8707
END:VEVENT

END:VCALENDAR
