BEGIN:VCALENDAR
VERSION:2.0
PRODID:-//ChamberMaster//Event Calendar 2.0//EN
METHOD:PUBLISH
X-PUBLISHED-TTL:P3D
REFRESH-INTERVAL:P3D
CALSCALE:GREGORIAN
BEGIN:VEVENT
DTSTART:20190911T130000Z
DTEND:20190911T140000Z
X-MICROSOFT-CDO-ALLDAYEVENT:FALSE
SUMMARY:Final Planning Call 2019 Philippines Business Mission
DESCRIPTION:Final Planning Call for September 16-18\, 2019 Philippines Business Mission
X-ALT-DESC;FMTTYPE=text/html:Final Planning Call for September 16-18\, 2019 Philippines Business Mission
LOCATION:Zoom call in details will be provided to registrants.
UID:e.9078.8017
SEQUENCE:3
DTSTAMP:20260424T211353Z
URL:http://usasean.memberzone.com/events/details/final-planning-call-2019-philippines-business-mission-8017
END:VEVENT

END:VCALENDAR
