BEGIN:VCALENDAR
VERSION:2.0
PRODID:-//ChamberMaster//Event Calendar 2.0//EN
METHOD:PUBLISH
X-PUBLISHED-TTL:P3D
REFRESH-INTERVAL:P3D
CALSCALE:GREGORIAN
BEGIN:VEVENT
DTSTART:20180608T050000Z
DTEND:20180608T050000Z
X-MICROSOFT-CDO-ALLDAYEVENT:FALSE
SUMMARY:FAREWELL RECEPTION in honor of new Vietnam Ambassadors to the United States the United Nations
DESCRIPTION:As Vietnam is sending two of the country's ablest officials to ambassadorial posts in the United States\, the US-ASEAN Business Council is pleased to organize a reception in Hanoi for our companies to bid farewell to Vice Minister of Foreign Affairs Ha Kim Ngoc\, new Ambassador to the United States\, and Vice Minister of Foreign Affairs Dang Dinh Quy\, new Ambassador to the United Nations. Both officials have been tremendously supportive and helpful to the US business community and we can continue to count on them in their new capacity. \n\n\nParticipants: Senior government officials\, US embassy officials\, US corporate executives\, local business leaders\, the heads of international organizations and prominent intellectuals.
X-ALT-DESC;FMTTYPE=text/html:<p style="margin: 0px\; line-height: 115%\;"><span style="margin: 0px\; font-family: &quot\;Georgia&quot\;\,serif\;"><font color="#000000" size="3">As Vietnam is sending two of the country&rsquo\;s ablest officials to ambassadorial posts in the United States\, the US-ASEAN Business Council is pleased to organize a reception in Hanoi for our companies to bid farewell to Vice Minister of Foreign Affairs Ha Kim Ngoc\, new Ambassador to the United States\, and Vice Minister of Foreign Affairs Dang Dinh Quy\, new Ambassador to the United Nations. Both officials have been tremendously supportive and helpful to the US business community and we can continue to count on them in their new capacity. </font></span></p>\n<br />\n<span style="margin: 0px\; font-family: &quot\;Georgia&quot\;\,serif\; font-size: 12pt\;"><font color="#000000">Participants: Senior government officials\, US embassy</font><span style="margin: 0px\; color: rgb(31\, 56\, 100)\;"> </span><font color="#000000">officials\, US corporate executives\, local business leaders\, the heads of international organizations and prominent intellectuals.</font></span>
LOCATION:Hanoi
UID:e.9078.6561
SEQUENCE:3
DTSTAMP:20260419T235729Z
URL:http://usasean.memberzone.com/events/details/farewell-reception-in-honor-of-new-vietnam-ambassadors-to-the-united-states-the-united-nations-6561
END:VEVENT

END:VCALENDAR
