BEGIN:VCALENDAR
VERSION:2.0
PRODID:-//ChamberMaster//Event Calendar 2.0//EN
METHOD:PUBLISH
X-PUBLISHED-TTL:P3D
REFRESH-INTERVAL:P3D
CALSCALE:GREGORIAN
BEGIN:VEVENT
DTSTART:20221208T110000Z
DTEND:20221208T130000Z
X-MICROSOFT-CDO-ALLDAYEVENT:FALSE
SUMMARY:Farewell Reception in honor of H. E. Lim Jock Hoi\, Secretary-General of ASEAN
DESCRIPTION:
X-ALT-DESC;FMTTYPE=text/html:
LOCATION:
UID:e.9078.8904
SEQUENCE:3
DTSTAMP:20260422T024152Z
URL:http://usasean.memberzone.com/events/details/farewell-reception-in-honor-of-h-e-lim-jock-hoi-secretary-general-of-asean-8904
END:VEVENT

END:VCALENDAR
