BEGIN:VCALENDAR
VERSION:2.0
PRODID:-//ChamberMaster//Event Calendar 2.0//EN
METHOD:PUBLISH
X-PUBLISHED-TTL:P3D
REFRESH-INTERVAL:P3D
CALSCALE:GREGORIAN
BEGIN:VEVENT
DTSTART;VALUE=DATE:20120918
DTEND;VALUE=DATE:20120919
TRANSP:TRANSPARENT
X-MICROSOFT-CDO-ALLDAYEVENT:TRUE
SUMMARY:Farewell Reception for Frances Zwenig\, September 18th - Sep 18 2012
DESCRIPTION:
X-ALT-DESC;FMTTYPE=text/html:
LOCATION:
UID:e.9078.389
SEQUENCE:3
DTSTAMP:20260424T185718Z
URL:http://usasean.memberzone.com/events/details/farewell-reception-for-frances-zwenig-september-18th-sep-18-2012-09-18-2012-389
END:VEVENT

END:VCALENDAR
