BEGIN:VCALENDAR
VERSION:2.0
PRODID:-//ChamberMaster//Event Calendar 2.0//EN
METHOD:PUBLISH
X-PUBLISHED-TTL:P3D
REFRESH-INTERVAL:P3D
CALSCALE:GREGORIAN
BEGIN:VEVENT
DTSTART:20240408T160000Z
DTEND:20240408T173000Z
X-MICROSOFT-CDO-ALLDAYEVENT:FALSE
SUMMARY:Farewell Luncheon in honor of H.E. Tanee Sangrat\, Thai Ambassador to the United States (VIP)
DESCRIPTION:The Council is pleased to host a Farewell Luncheon in honor of H.E. Tanee Sangrat\, Ambassador of the Kingdom of Thailand to the United States of America. Click here for Ambassador Tanee's biography. \n\n\n\n\n\nAs Ambassador Tanee finishes his term\, please join us in celebrating a true friend of the U.S. business community. Since coming to Washington\, DC in November 2022\, Ambassador Tanee has dedicated himself to deepening all aspects of U.S.-Thailand bilateral relations. He has been a reliable partner to the Council and its members\, building a productive channel to Bangkok\, opening new doors to trade and investment in Thailand.\n\n\n\n\n\nWe hope you will join us in honoring Ambassador Tanee and wishing him the best of luck in his future endeavors.\n\n\n\n\n\nPlease contact Pimploy Vivatanapaiboonlap (pimploy@usasean.org) with any questions.
X-ALT-DESC;FMTTYPE=text/html:<br />\n<br />\n<span style="font-size: 16px\; caret-color: rgb(0\, 0\, 0)\; color: rgb(0\, 0\, 0)\; font-family: Arial\, sans-serif\; text-size-adjust: auto\;">The Council is pleased to host a Farewell Luncheon in honor of H.E. Tanee Sangrat\, Ambassador of the Kingdom of Thailand to the United States of America.&nbsp\;<a href="https://washingtondc.thaiembassy.org/en/page/ambassador?menu=641d802ed2dfce69cd381d42">Click here&nbsp\;</a>for Ambassador Tanee&#39\;s biography.&nbsp\;</span><br style="font-size: 16px\; caret-color: rgb(0\, 0\, 0)\; color: rgb(0\, 0\, 0)\; font-family: Arial\, sans-serif\; text-size-adjust: auto\;" />\n<br />\n<br style="font-size: 16px\; caret-color: rgb(0\, 0\, 0)\; color: rgb(0\, 0\, 0)\; font-family: Arial\, sans-serif\; text-size-adjust: auto\;" />\n<span style="font-size: 16px\; caret-color: rgb(0\, 0\, 0)\; color: rgb(0\, 0\, 0)\; font-family: Arial\, sans-serif\; text-size-adjust: auto\;">As Ambassador Tanee finishes his term\, please join us in celebrating a true friend of the U.S. business community. Since coming to Washington\, DC in November 2022\, Ambassador Tanee has dedicated himself to deepening all aspects of U.S.-Thailand bilateral relations. He has been a reliable partner to the Council and its members\, building a productive channel to Bangkok\,&nbsp\;opening new doors to trade and investment in Thailand.</span><br />\n<br style="font-size: 16px\; caret-color: rgb(0\, 0\, 0)\; color: rgb(0\, 0\, 0)\; font-family: Arial\, sans-serif\; text-size-adjust: auto\;" />\n<br style="font-size: 16px\; caret-color: rgb(0\, 0\, 0)\; color: rgb(0\, 0\, 0)\; font-family: Arial\, sans-serif\; text-size-adjust: auto\;" />\n<span style="font-size: 16px\; caret-color: rgb(0\, 0\, 0)\; color: rgb(0\, 0\, 0)\; font-family: Arial\, sans-serif\; text-size-adjust: auto\;">We hope you will join us in honoring Ambassador Tanee and wishing him the best of luck in his future endeavors.</span><br style="font-size: 16px\;" />\n<br />\n<br style="font-size: 16px\;" />\n<span style="font-size: 16px\; font-family: arial\, sans-serif\;">Please contact Pimploy Vivatanapaiboonlap (pimploy@usasean.org) with any questions.</span>
LOCATION:
UID:e.9078.9268
SEQUENCE:3
DTSTAMP:20260422T072037Z
URL:http://usasean.memberzone.com/events/details/farewell-luncheon-in-honor-of-h-e-tanee-sangrat-thai-ambassador-to-the-united-states-vip-9268
END:VEVENT

END:VCALENDAR
