BEGIN:VCALENDAR
VERSION:2.0
PRODID:-//ChamberMaster//Event Calendar 2.0//EN
METHOD:PUBLISH
X-PUBLISHED-TTL:P3D
REFRESH-INTERVAL:P3D
CALSCALE:GREGORIAN
BEGIN:VEVENT
DTSTART:20180605T160000Z
DTEND:20180605T180000Z
X-MICROSOFT-CDO-ALLDAYEVENT:FALSE
SUMMARY:Farewell Luncheon in Honor of H.E. Pham Quang Vinh\, Vietnam Ambassador to the U.S. (VIP)
DESCRIPTION:Farewell Luncheon in Honor of H.E. Pham Quang Vinh\, Vietnam Ambassador to the U.S.
X-ALT-DESC;FMTTYPE=text/html:Farewell Luncheon in Honor of H.E. Pham&nbsp\;Quang&nbsp\;Vinh\, Vietnam Ambassador to the U.S.
LOCATION:St. Regis Hotel Washington\, D.C.
UID:e.9078.6551
SEQUENCE:3
DTSTAMP:20260419T235650Z
URL:http://usasean.memberzone.com/events/details/farewell-luncheon-in-honor-of-h-e-pham-quang-vinh-vietnam-ambassador-to-the-u-s-vip-6551
END:VEVENT

END:VCALENDAR
