BEGIN:VCALENDAR
VERSION:2.0
PRODID:-//ChamberMaster//Event Calendar 2.0//EN
METHOD:PUBLISH
X-PUBLISHED-TTL:P3D
REFRESH-INTERVAL:P3D
CALSCALE:GREGORIAN
BEGIN:VEVENT
DTSTART:20141113T170000Z
DTEND:20141113T190000Z
X-MICROSOFT-CDO-ALLDAYEVENT:FALSE
SUMMARY:Farewell Luncheon in honor of Ambassador Cuong
DESCRIPTION:The US-ASEAN Business Council is pleased to invite you to a\n\nFarewell Luncheon\n\n \n\nin honor of \n\n \n\nH.E. Nguyen Quoc Cuong\n\nAmbassador of Vietnam to the United States\n\nThursday\, November 13\, 2014\n\n12:00   2:00 PM\n\n \n\nThe St. Regis Hotel\n\n923 16th St NW\n\nWashington\, D.C.\n\n \n\nPlease respond before November 11\, 2014\n\n \n\nAmbassador Nguyen Quoc Cuong is departing his post as Ambassador of Vietnam to the United States\, a position he has held since 2011.  Ambassador Cuong and the Vietnam Embassy team have shown a tremendous  commitment to improving U.S.-Vietnam bilateral relationship. Since his arrival\, the United States and Vietnam have launched a bilateral comprehensive partnership\, showed continued progress in TPP negotiations\, signed an agreement on civil nuclear cooperation and increased military to military ties.  The Council and its member companies consider Ambassador Cuong a dear friend and a strong supporter who has extended his time and energy to opening new doors to trade and investment in Vietnam.  We have greatly enjoyed working with Ambassador Cuong and are honored to bid farewell to one of the most seasoned Vietnamese diplomats who has ever served in Washington D.C.
X-ALT-DESC;FMTTYPE=text/html:The US-ASEAN Business Council is pleased to invite you to a<br />\n<strong>Farewell Luncheon</strong><br />\n&nbsp\;<br />\n<strong>in honor of </strong><br />\n&nbsp\;<br />\n<strong>H.E. Nguyen Quoc Cuong</strong><br />\n<strong>Ambassador of Vietnam to the United States</strong><br />\nThursday\, November 13\, 2014<br />\n12:00 &ndash\; 2:00 PM<br />\n&nbsp\;<br />\nThe St. Regis Hotel<br />\n923 16th St NW<br />\nWashington\, D.C.<br />\n&nbsp\;<br />\n<strong>Please respond before November 11\, 2014</strong><br />\n&nbsp\;<br />\nAmbassador Nguyen Quoc Cuong is departing his post as Ambassador of Vietnam to the United States\, a position he has held since 2011. &nbsp\;Ambassador Cuong and the Vietnam Embassy team have shown a tremendous &nbsp\;commitment to improving U.S.-Vietnam bilateral relationship. Since his arrival\, the United States and Vietnam have launched a bilateral comprehensive partnership\, showed continued progress in TPP negotiations\, signed an agreement on civil nuclear cooperation and increased military to military ties. &nbsp\;The Council and its member companies consider Ambassador Cuong a dear friend and a strong supporter who has extended his time and energy to opening new doors to trade and investment in Vietnam. &nbsp\;We have greatly enjoyed working with Ambassador Cuong and are honored to bid farewell to one of the most seasoned Vietnamese diplomats who has ever served in Washington D.C.
LOCATION:The St. Regis Hotel 923 16th St NW Washington\, D.C.
UID:e.9078.1307
SEQUENCE:3
DTSTAMP:20260420T001813Z
URL:http://usasean.memberzone.com/events/details/farewell-luncheon-in-honor-of-ambassador-cuong-11-13-2014-1307
END:VEVENT

END:VCALENDAR
