BEGIN:VCALENDAR
VERSION:2.0
PRODID:-//ChamberMaster//Event Calendar 2.0//EN
METHOD:PUBLISH
X-PUBLISHED-TTL:P3D
REFRESH-INTERVAL:P3D
CALSCALE:GREGORIAN
BEGIN:VEVENT
DTSTART:20131205T170000Z
DTEND:20131205T190000Z
X-MICROSOFT-CDO-ALLDAYEVENT:FALSE
SUMMARY:Farewell Luncheon for H.E. Dino Patti Djalal
DESCRIPTION:Farewell Luncheon for\n\nH.E. Dino Patti Djalal\n\nAmbassador of Indonesia to the United States\n\n \n\n\nAmbassador Dino Patti Djalal is leaving his post as Indonesia's Ambassador to the United States\, a position he has held since 2010.  The Council counts Ambassador Djalal among its closest friends and supporters\, and since the day he arrived\, he has generously extended his time and energy to ensure that the concerns and aspirations of the U.S. business community were heard and that new doors to trade and investment in Indonesia were opened.  He has been a key advisor to members operating and expanding in Indonesia and throughout the region and is one of the most dynamic diplomats to have ever served in Washington\, D.C.\n\n\nWe hope you will join us in honoring the Ambassador and wishing him the best of luck in his future endeavors as he returns to Indonesia to contend for the Partai Demokrat presidential nomination.\n\n\nIf you are interested in sponsoring or want more information\, please contact Alexandra Stuart at astuart@usasean.org.
X-ALT-DESC;FMTTYPE=text/html:<div>Farewell Luncheon for</div>\n\n<div>H.E. Dino Patti Djalal</div>\n\n<div>Ambassador of Indonesia to the United States</div>\n\n<div>&nbsp\;</div>\n\n<div>\n<div>Ambassador Dino Patti Djalal is leaving his post as Indonesia&rsquo\;s Ambassador to the United States\, a position he has held since 2010. &nbsp\;The Council counts Ambassador Djalal among its closest friends and supporters\, and since the day he arrived\, he has generously extended his time and energy to ensure that the concerns and aspirations of the U.S. business community were heard and that new doors to trade and investment in Indonesia were opened. &nbsp\;He has been a key advisor to members operating and expanding in Indonesia and throughout the region and is one of the most dynamic diplomats to have ever served in Washington\, D.C.</div>\n\n<div>\n<p>We hope you will join us in honoring the Ambassador and wishing him the best of luck in his future endeavors as he returns to Indonesia to contend for the Partai Demokrat presidential nomination.</p>\n</div>\n\n<div>If you are interested in sponsoring or want more information\, please contact Alexandra Stuart at astuart@usasean.org.</div>\n</div>\n\n<div>&nbsp\;</div>\n
LOCATION:Altitude Ballroom Roof Level The W Hotel 515 15th Street\, NW Washington\, D.C.
UID:e.9078.986
SEQUENCE:3
DTSTAMP:20260421T054956Z
URL:http://usasean.memberzone.com/events/details/farewell-luncheon-for-h-e-dino-patti-djalal-12-05-2013-986
END:VEVENT

END:VCALENDAR
