BEGIN:VCALENDAR
VERSION:2.0
PRODID:-//ChamberMaster//Event Calendar 2.0//EN
METHOD:PUBLISH
X-PUBLISHED-TTL:P3D
REFRESH-INTERVAL:P3D
CALSCALE:GREGORIAN
BEGIN:VEVENT
DTSTART:20131011T163000Z
DTEND:20131011T180000Z
X-MICROSOFT-CDO-ALLDAYEVENT:FALSE
SUMMARY:Farewell Luncheon for Ambassador Chaiyong
DESCRIPTION:Farewell Luncheon for Ambassador Chaiyong
X-ALT-DESC;FMTTYPE=text/html:Farewell Luncheon for Ambassador Chaiyong&nbsp\;
LOCATION:
UID:e.9078.941
SEQUENCE:3
DTSTAMP:20260421T112029Z
URL:http://usasean.memberzone.com/events/details/farewell-luncheon-for-ambassador-chaiyong-10-11-2013-941
END:VEVENT

END:VCALENDAR
