BEGIN:VCALENDAR
VERSION:2.0
PRODID:-//ChamberMaster//Event Calendar 2.0//EN
METHOD:PUBLISH
X-PUBLISHED-TTL:P3D
REFRESH-INTERVAL:P3D
CALSCALE:GREGORIAN
BEGIN:VEVENT
DTSTART:20150108T170000Z
DTEND:20150108T183000Z
X-MICROSOFT-CDO-ALLDAYEVENT:FALSE
SUMMARY:Farewell Lunch for Commercial Counselor Mike McGee
DESCRIPTION:Farewell Lunch for Commercial Counselor\, Mike McGee
X-ALT-DESC;FMTTYPE=text/html:Farewell Lunch for Commercial Counselor\, Mike McGee
LOCATION:Le Normandie\, Mandarin Oriental Hotel
UID:e.9078.1337
SEQUENCE:3
DTSTAMP:20260419T210018Z
URL:http://usasean.memberzone.com/events/details/farewell-lunch-for-commercial-counselor-mike-mcgee-01-08-2015-1337
END:VEVENT

END:VCALENDAR
