BEGIN:VCALENDAR
VERSION:2.0
PRODID:-//ChamberMaster//Event Calendar 2.0//EN
METHOD:PUBLISH
X-PUBLISHED-TTL:P3D
REFRESH-INTERVAL:P3D
CALSCALE:GREGORIAN
BEGIN:VEVENT
DTSTART:20141015T163000Z
DTEND:20141015T180000Z
X-MICROSOFT-CDO-ALLDAYEVENT:FALSE
SUMMARY:Farewell Lunch - Brunei Amb Yusoff
DESCRIPTION:
X-ALT-DESC;FMTTYPE=text/html:
LOCATION:Cafe Milano 3251 Prospect St NW Washington\, DC 20007 202.333.6183
UID:e.9078.1286
SEQUENCE:3
DTSTAMP:20260420T021115Z
URL:http://usasean.memberzone.com/events/details/farewell-lunch-brunei-amb-yusoff-10-15-2014-1286
END:VEVENT

END:VCALENDAR
