BEGIN:VCALENDAR
VERSION:2.0
PRODID:-//ChamberMaster//Event Calendar 2.0//EN
METHOD:PUBLISH
X-PUBLISHED-TTL:P3D
REFRESH-INTERVAL:P3D
CALSCALE:GREGORIAN
BEGIN:VEVENT
DTSTART;VALUE=DATE:20190617
DTEND;VALUE=DATE:20190618
TRANSP:TRANSPARENT
X-MICROSOFT-CDO-ALLDAYEVENT:TRUE
SUMMARY:Farewell dinner for US Consul General to HCMC Mary Tarnowka
DESCRIPTION:Farewell dinner for US Consul General to HCMC Mary Tarnowka
X-ALT-DESC;FMTTYPE=text/html:Farewell dinner for US Consul General to HCMC Mary Tarnowka
LOCATION:Hochiminh City
UID:e.9078.7900
SEQUENCE:3
DTSTAMP:20260425T021859Z
URL:http://usasean.memberzone.com/events/details/farewell-dinner-for-us-consul-general-to-hcmc-mary-tarnowka-7900
END:VEVENT

END:VCALENDAR
