BEGIN:VCALENDAR
VERSION:2.0
PRODID:-//ChamberMaster//Event Calendar 2.0//EN
METHOD:PUBLISH
X-PUBLISHED-TTL:P3D
REFRESH-INTERVAL:P3D
CALSCALE:GREGORIAN
BEGIN:VEVENT
DTSTART:20130307T143000Z
DTEND:20130307T153000Z
X-MICROSOFT-CDO-ALLDAYEVENT:FALSE
SUMMARY:F&A WG quarterly meeting / save the date\, March 7\, 2013
DESCRIPTION:The F&A Group's first quarterly meeting will focus on consolidating and following-up on existing and new issues / developments including the following:\n	\n		\n			Work plan   including new updates\, changes and confirming work plan for this year \n		\n			Decide on priority advocacy works \n		\n			The group's possible participation / involvement in APEC meetings\n		\n			 Any planned group trade mission this year  \n	\n	Click here to edit...
X-ALT-DESC;FMTTYPE=text/html:<div style="color: gray\;">\n	<span style="font-size: 14px\;"><span style="font-family: tahoma\;">The F&amp\;A Group&#39\;s first quarterly&nbsp\;meeting will focus on consolidating and following-up on existing and new issues / developments including the following:</span></span>\n	<ul>\n		<li>\n			<span style="font-size: 14px\;"><span style="font-family: tahoma\;">Work plan &ndash\; including new updates\, changes and confirming work plan for this year </span></span></li>\n		<li>\n			<span style="font-size: 14px\;"><span style="font-family: tahoma\;">Decide on priority advocacy works </span></span></li>\n		<li>\n			<span style="font-size: 14px\;"><span style="font-family: tahoma\;">The group&rsquo\;s possible participation / involvement in APEC meetings</span></span></li>\n		<li>\n			<span style="font-size: 11px\;"><span style="font-family: tahoma\;"><span style="font-size: 14px\;">&nbsp\;Any planned</span><span style="font-size: 14px\;"> group trade mission this year &nbsp\;</span></span></span></li>\n	</ul>\n	Click here to edit...</div>\n
LOCATION:Cargill Asia Pacific Holdings Pte Ltd India Room\, 23rd floor\, The Concourse\, 300 Beach Road\, Singapore
UID:e.9078.705
SEQUENCE:3
DTSTAMP:20260422T061652Z
URL:http://usasean.memberzone.com/events/details/f-a-wg-quarterly-meeting-save-the-date-march-7-2013-03-07-2013-705
END:VEVENT

END:VCALENDAR
