BEGIN:VCALENDAR
VERSION:2.0
PRODID:-//ChamberMaster//Event Calendar 2.0//EN
METHOD:PUBLISH
X-PUBLISHED-TTL:P3D
REFRESH-INTERVAL:P3D
CALSCALE:GREGORIAN
BEGIN:VEVENT
DTSTART:20130425T133000Z
DTEND:20130425T143000Z
X-MICROSOFT-CDO-ALLDAYEVENT:FALSE
SUMMARY:F&A WG meeting / call to discuss position paper
DESCRIPTION:Food & Agriculture Working Group Call / Meeting: Discussion on Group Position Paper
X-ALT-DESC;FMTTYPE=text/html:Food &amp\; Agriculture Working Group Call / Meeting: Discussion on Group Position Paper
LOCATION:TBD
UID:e.9078.745
SEQUENCE:3
DTSTAMP:20260422T024002Z
URL:http://usasean.memberzone.com/events/details/f-a-wg-meeting-call-to-discuss-position-paper-04-25-2013-745
END:VEVENT

END:VCALENDAR
