BEGIN:VCALENDAR
VERSION:2.0
PRODID:-//ChamberMaster//Event Calendar 2.0//EN
METHOD:PUBLISH
X-PUBLISHED-TTL:P3D
REFRESH-INTERVAL:P3D
CALSCALE:GREGORIAN
BEGIN:VEVENT
DTSTART;VALUE=DATE:20120904
DTEND;VALUE=DATE:20120905
TRANSP:TRANSPARENT
X-MICROSOFT-CDO-ALLDAYEVENT:TRUE
SUMMARY:F&A WG Follow-Up Call\, Sept 4\, 2012 - Sep 4 2012
DESCRIPTION:
X-ALT-DESC;FMTTYPE=text/html:
LOCATION:
UID:e.9078.382
SEQUENCE:3
DTSTAMP:20260424T185533Z
URL:http://usasean.memberzone.com/events/details/f-a-wg-follow-up-call-sept-4-2012-sep-4-2012-09-04-2012-382
END:VEVENT

END:VCALENDAR
