BEGIN:VCALENDAR
VERSION:2.0
PRODID:-//ChamberMaster//Event Calendar 2.0//EN
METHOD:PUBLISH
X-PUBLISHED-TTL:P3D
REFRESH-INTERVAL:P3D
CALSCALE:GREGORIAN
BEGIN:VEVENT
DTSTART;VALUE=DATE:20140218
DTEND;VALUE=DATE:20140219
TRANSP:TRANSPARENT
X-MICROSOFT-CDO-ALLDAYEVENT:TRUE
SUMMARY:Euromoney Philippines Investment Forum
DESCRIPTION:The underlying strength of the Philippines economy remains strong despite setbacks dealt by Typhoon Haiyan (Yolanda). Its economy is expected to again grow by 7% in 2013 after having successfully attained an investment-grade credit rating. For 2014\, a combination of increasing remittances\, rising FDI\, and infrastructure implementation will help put the Philippines economy into high gear.\n\n\n\nJoin over 600 policymakers\, business leaders\, economists and key overseas investors as they take a look at the country's economic fundamentals and progressive reforms.
X-ALT-DESC;FMTTYPE=text/html:<span style="font-family: arial\, sans-serif\; font-size: 13px\;">The underlying strength of the Philippines economy remains strong despite setbacks dealt by Typhoon&nbsp\;</span>Haiyan<span style="font-family: arial\, sans-serif\; font-size: 13px\;">&nbsp\;(Yolanda). Its economy is expected to again grow by 7% in 2013 after having successfully attained an investment-grade credit rating. For 2014\, a combination of increasing remittances\, rising&nbsp\;</span>FDI<span style="font-family: arial\, sans-serif\; font-size: 13px\;">\, and infrastructure implementation will help put the Philippines economy into high gear.</span><br style="font-family: arial\, sans-serif\; font-size: 13px\;" />\n<br style="font-family: arial\, sans-serif\; font-size: 13px\;" />\n<span style="font-family: arial\, sans-serif\; font-size: 13px\;">Join over 600 policymakers\, business leaders\, economists and key overseas investors as they take a look at the country&rsquo\;s economic fundamentals and progressive reforms.&nbsp\;</span><br />\n<br />\n
LOCATION:Manila\, Philippines
UID:e.9078.1016
SEQUENCE:3
DTSTAMP:20260421T023206Z
URL:http://usasean.memberzone.com/events/details/euromoney-philippines-investment-forum-02-18-2014-1016
END:VEVENT

END:VCALENDAR
