BEGIN:VCALENDAR
VERSION:2.0
PRODID:-//ChamberMaster//Event Calendar 2.0//EN
METHOD:PUBLISH
X-PUBLISHED-TTL:P3D
REFRESH-INTERVAL:P3D
CALSCALE:GREGORIAN
BEGIN:VEVENT
DTSTART;VALUE=DATE:20141126
DTEND;VALUE=DATE:20141127
TRANSP:TRANSPARENT
X-MICROSOFT-CDO-ALLDAYEVENT:TRUE
SUMMARY:Euromoney Indonesia Investment Forum
DESCRIPTION:Hear from a pool of international and Indonesian business leaders on the future outlook on investment opportunities in one of South East Asia's most promising and dynamic economies.\n\n\n\nFollowing Indonesia's most recent presidential election results\, what sorts of reforms and transformations could we expect to see? How will the country's biggest challenges be tackled by the new government?  Join us for a day of discussions as we cover crucial topics such as the current investment climate in Indonesia\, and how the country can best continue its growth story amidst ongoing challenges such as rising deficits and underdeveloped infrastructure.\n\nListen to what our panelists have to say on what could be done to turn the tides and jump-start a more robust economic growth trajectory for Indonesia.\n\n\n\nThe confirmed keynote speaker is the Hon. Agus Martowardojo\, Governor of Bank Indonesia. \n\n\n\nFor a conference agenda please click here.
X-ALT-DESC;FMTTYPE=text/html:Hear from a pool of international and Indonesian business leaders on the future outlook on investment opportunities in one of South East Asia&#39\;s most promising and dynamic economies.<br />\n<br />\nFollowing Indonesia&rsquo\;s most recent presidential election results\, what sorts of reforms and transformations could we expect to see? How will the country&rsquo\;s biggest challenges be tackled by the new government? &nbsp\;Join us for a day of discussions as we cover crucial topics such as the current investment climate in Indonesia\, and how the country can best continue its growth story amidst ongoing challenges such as rising deficits and underdeveloped infrastructure.<br />\nListen to what our panelists have to say on what could be done to turn the tides and jump-start a more robust economic growth trajectory for Indonesia.<br />\n<br />\nThe confirmed keynote speaker is the Hon. Agus Martowardojo\, Governor of Bank Indonesia.&nbsp\;<br />\n<br />\n<a href="http://cloud.chambermaster.com/userfiles/UserFiles/chambers/9078/File/Euromoney_IndonesiaInvestmentForum2014.pdf">For a conference agenda please click here.</a> &nbsp\;<br />\n&nbsp\;
LOCATION:Venue TBD Jakarta\, Indonesia
UID:e.9078.1301
SEQUENCE:3
DTSTAMP:20260420T001809Z
URL:http://usasean.memberzone.com/events/details/euromoney-indonesia-investment-forum-11-26-2014-1301
END:VEVENT

END:VCALENDAR
