BEGIN:VCALENDAR
VERSION:2.0
PRODID:-//ChamberMaster//Event Calendar 2.0//EN
METHOD:PUBLISH
X-PUBLISHED-TTL:P3D
REFRESH-INTERVAL:P3D
CALSCALE:GREGORIAN
BEGIN:VEVENT
DTSTART:20180607T010000Z
DTEND:20180607T103000Z
X-MICROSOFT-CDO-ALLDAYEVENT:FALSE
SUMMARY:Euromoney Greater Mekong Investment Forum 2018
DESCRIPTION:As a member of US-ASEAN Business Council\, we are delighted to extend to you a complimentary pass* to attend Euromoney's 2018 Greater Mekong Investment Forum where this year's agenda will explore the opportunities ahead for the GMS\, and deliver high level insights into key areas of the Thailand 4.0 initiative and the collaborative opportunities existing between Thai and international firms.\n\n\n\nKey conference discussions will revolve around:\n\n	2018 and Beyond: Explore what lies ahead in terms of opportunities and challenges for the GMS\n	VC and PE Showdown: Can Thailand become a fertile breeding ground for start-ups?\n	Discover the benefits of the GMS connectivity enhancement roadmap\n	Understand how you can benefit from Thailand 4.0\n	Thailand industry focus sessions: smart tech\, digital commerce\, AgTech\, BioTech\, bioenery and biochemical\n\nClick here to view the latest speaker line-up.\n\nYour attendance is complimentary if you are the investor or corporate entity. \n\n\n\nTo register for the event\, please send e-mail by quoting promotion code 'US-ASEAN' to our customer services team at rsvp@euromoneyasia.com or via Euromoney website.
X-ALT-DESC;FMTTYPE=text/html:<span style="font-family:arial\,sans-serif\;">As a member of <strong>US-ASEAN Business Council</strong>\, we are delighted to extend to you a complimentary pass* to attend&nbsp\;</span><a href="http://euromoney.msgfocus.com/c/11gSiOYlVcdWXD6k5uxT0Oj3b"><span style="color:#AD390B\;"><span style="font-family:arial\,sans-serif\;">Euromoney&rsquo\;s 2018 Greater Mekong Investment Forum</span></span></a><span style="color:black\;"><span style="font-family:arial\,sans-serif\;">&nbsp\;</span></span><span style="font-family:arial\,sans-serif\;">where this year&rsquo\;s agenda will explore the opportunities ahead for the GMS\, and deliver high level insights into key areas of the Thailand 4.0 initiative and the collaborative opportunities existing between Thai and international firms.</span><br />\n<br />\n<strong><span style="font-family:arial\,sans-serif\;">Key conference discussions will revolve around:</span></strong>\n<ul>\n	<li><span style="font-family:arial\,sans-serif\;">2018 and Beyond: Explore what lies ahead in terms of opportunities and challenges for the GMS</span></li>\n	<li><span style="font-family:arial\,sans-serif\;">VC and PE Showdown: Can Thailand become a fertile breeding ground for start-ups?</span></li>\n	<li><span style="font-family:arial\,sans-serif\;">Discover the benefits of the GMS connectivity enhancement roadmap</span></li>\n	<li><span style="font-family:arial\,sans-serif\;">Understand how you can benefit from Thailand 4.0</span></li>\n	<li><span style="font-family:arial\,sans-serif\;">Thailand industry focus sessions: smart tech\, digital commerce\, AgTech\, BioTech\, bioenery and biochemical</span></li>\n</ul>\n<a href="http://euromoney.msgfocus.com/c/11gSiR15HAaxB4fpP1DdaUXkE"><span style="color:#AD390B\;"><span style="font-family:arial\,sans-serif\;">Click here</span></span></a><span style="font-family:arial\,sans-serif\;"> to view the latest speaker line-up.</span><br />\n<span style="font-family:arial\,sans-serif\;">Your attendance is complimentary if you are the investor or corporate entity.&nbsp\;</span><br />\n<br />\n<span style="font-family:arial\,sans-serif\;">To register for the event\, please send e-mail by quoting promotion code <strong>&#39\;US-ASEAN</strong>&#39\; to our customer services team at&nbsp\;</span><a href="mailto:rsvp@euromoneyasia.com?subject=I%20will%20attend%20The%20Greater%20Mekong%20Investment%20Forum%20*US-ASEAN"><span style="color:#AD390B\;"><span style="font-family:arial\,sans-serif\;">rsvp@euromoneyasia.com</span></span></a><span style="font-family:arial\,sans-serif\;"> or via Euromoney&nbsp\;</span><a href="http://euromoney.msgfocus.com/c/11gSiV6zgm3IRWxBi5NRv8fTA"><span style="color:#AD390B\;"><span style="font-family:arial\,sans-serif\;">website</span></span></a><span style="font-family:arial\,sans-serif\;">.</span>
LOCATION:Centara Grand at CentralWorld\, Bangkok\, Thailand
UID:e.9078.6545
SEQUENCE:3
DTSTAMP:20260419T235629Z
URL:http://usasean.memberzone.com/events/details/euromoney-greater-mekong-investment-forum-2018-6545
END:VEVENT

END:VCALENDAR
