BEGIN:VCALENDAR
VERSION:2.0
PRODID:-//ChamberMaster//Event Calendar 2.0//EN
METHOD:PUBLISH
X-PUBLISHED-TTL:P3D
REFRESH-INTERVAL:P3D
CALSCALE:GREGORIAN
BEGIN:VEVENT
DTSTART:20130723T003000Z
DTEND:20130723T013000Z
X-MICROSOFT-CDO-ALLDAYEVENT:FALSE
SUMMARY:Energy Working Group Call
DESCRIPTION:Please join us for the next Energy Working Group Call.\n\n\n\nDuring the call we will discuss:\n\n1. the Energy Working Group workplan\n\n2. any member concerns or specific issues\n\n3. the Energy Mission to the ASEAN Energy Ministers Meeting (September 23-27\, 2013)\n\n\n\nClick here to request the agenda for the call.
X-ALT-DESC;FMTTYPE=text/html:<span style="font-family:arial\,sans-serif\;"><span style="font-size:10.5pt\;">Please join us for the next Energy Working Group&nbsp\;Call.<br />\n<br />\nDuring the call we will discuss:<br />\n1. the Energy Working Group workplan<br />\n2. any member concerns or specific issues<br />\n3. the Energy Mission to the ASEAN Energy Ministers Meeting (September 23-27\, 2013)</span></span><br />\n<br />\n<a href="mailto:astuart@usasean.org?subject=Please%20send%20me%20the%20agenda%20for%20Energy%20Committee%20call%20">Click here</a> to request the agenda for the call.&nbsp\;
LOCATION:Dial-in information USA: 866-528-2256 Indonesia 001-803-1-003-3585 Singapore 800-110-1752 Access Code: 1671469
UID:e.9078.865
SEQUENCE:3
DTSTAMP:20260422T003314Z
URL:http://usasean.memberzone.com/events/details/energy-working-group-call-07-22-2013-865
END:VEVENT

END:VCALENDAR
