BEGIN:VCALENDAR
VERSION:2.0
PRODID:-//ChamberMaster//Event Calendar 2.0//EN
METHOD:PUBLISH
X-PUBLISHED-TTL:P3D
REFRESH-INTERVAL:P3D
CALSCALE:GREGORIAN
BEGIN:VEVENT
DTSTART:20190617T140000Z
DTEND:20190617T150000Z
X-MICROSOFT-CDO-ALLDAYEVENT:FALSE
SUMMARY:Energy Roundtable: Briefing on Role of U.S. Dept. of Commerce in Asia EDGE
DESCRIPTION:Please join us for the third roundtable in the US-ASEAN Business Council's Energy Roundtable Series\, which will feature a briefing by Mr. W. Patrick Wilson\, Director of the Office of Business Liaison at the U.S. Department of Commerce. During the roundtable\, Mr. Wilson will provide an update on the U.S. Department of Commerce's role in the Asia EDGE (Enhancing Development and Growth through Energy) initiative\, the energy-focused pillar of the U.S. Government's Free and Open Indo-Pacific (FOIP) strategy. A Q&A will follow the briefing. Mr. Wilson's bio is available here.\n\n\n\nIn July 2018\, Secretary of State Mike Pompeo announced Asia EDGE as one of three economic pillars of the U.S. administration's FOIP strategy. Asia EDGE is described as a whole-of-government effort to grow sustainable and secure energy markets throughout the Indo-Pacific by strengthening energy security\, increasing energy diversification and trade\, and expanding energy access across the region. During the previous Energy Roundtable\, member companies received a briefing from the U.S. Department of State on the rollout of Asia EDGE. This roundtable will be an excellent and informative complement to that roundtable\, with the focus being on what the Commerce Department is prioritizing as part of the Asia EDGE initiative.\n\n\n\nThe Energy Roundtable Series is an initiative by the Energy Committee at the US-ASEAN Business Council to keep member companies well-informed of prevailing and shifting trends in Southeast Asia's vital energy sector.\n\n\n\nIf you have any questions about the roundtable\, please email Riley Smith at rsmith@usasean.org.
X-ALT-DESC;FMTTYPE=text/html:Please join us for the third roundtable in the US-ASEAN Business Council&#39\;s Energy Roundtable Series\, which will feature a briefing by Mr. W. Patrick Wilson\, Director of the Office of Business Liaison at the U.S. Department of Commerce. During the roundtable\, Mr. Wilson will provide an update on the U.S. Department of Commerce&#39\;s role in the <a href="https://www.state.gov/asia-edge/">Asia EDGE</a> (Enhancing Development and Growth through Energy) initiative\, the energy-focused pillar of the U.S. Government&#39\;s Free and Open Indo-Pacific (FOIP) strategy. A Q&amp\;A will follow the briefing. Mr. Wilson&#39\;s bio is available <a href="https://usasean.sharepoint.com/programs/Energy/Forms/AllItems.aspx?id=%2Fprograms%2FEnergy%2F2019%2F2019%20Energy%20Events%2F20190618%20-%20Energy%20RT%203%2FW%20Patrick%20Wilson%20-%20Bio%2Epdf&amp\;parent=%2Fprograms%2FEnergy%2F2019%2F2019%20Energy%20Events%2F20190618%20-%20Energy%20RT%203&amp\;p=true&amp\;cid=248d9d7d-ece5-454b-883d-9bd095c72c0b">here</a>.<br />\n<br />\nIn July 2018\, Secretary of State Mike Pompeo announced Asia EDGE as one of three economic pillars of the U.S. administration&#39\;s FOIP strategy. Asia EDGE is described as a whole-of-government effort to grow sustainable and secure energy markets throughout the Indo-Pacific by strengthening energy security\, increasing energy diversification and trade\, and expanding energy access across the region. During the previous Energy Roundtable\, member companies received a briefing from the U.S. Department of State on the rollout of Asia EDGE. This roundtable will be an excellent and informative complement to that roundtable\, with the focus being on what the Commerce Department is prioritizing as part of the Asia EDGE initiative.<br />\n<br />\nThe Energy Roundtable Series is an initiative by the Energy Committee at the US-ASEAN Business Council to keep member companies well-informed of prevailing and shifting trends in Southeast Asia&#39\;s vital energy sector.<br />\n<br />\nIf you have any questions about the roundtable\, please email Riley Smith at rsmith@usasean.org.
LOCATION:The Asia Group 2101 L St NW\, Suite 310 Washington\, D.C. 20037
UID:e.9078.7914
SEQUENCE:3
DTSTAMP:20260425T021920Z
URL:http://usasean.memberzone.com/events/details/energy-roundtable-briefing-on-role-of-u-s-dept-of-commerce-in-asia-edge-7914
END:VEVENT

END:VCALENDAR
