BEGIN:VCALENDAR
VERSION:2.0
PRODID:-//ChamberMaster//Event Calendar 2.0//EN
METHOD:PUBLISH
X-PUBLISHED-TTL:P3D
REFRESH-INTERVAL:P3D
CALSCALE:GREGORIAN
BEGIN:VEVENT
DTSTART:20180703T130000Z
DTEND:20180703T140000Z
X-MICROSOFT-CDO-ALLDAYEVENT:FALSE
SUMMARY:Energy Committee Quarterly Call
DESCRIPTION:Please join us for the second Energy Committee Quarterly Call of 2018. During the call Mr. Ali Al-Saffar\, Energy Analyst at the International Energy Agency's Directorate of Global Economics and one of the authors of the IEA's Southeast Asia Energy Outlook 2017\, will provide a briefing on energy trends in Southeast Asia. A Q&A session will follow the briefing. Mr. Al-Saffar's official bio can be found here.\n\n\n\nThe remainder of the call will be dedicated to reviewing the Council's participation in the ASEAN-IEA Digitalisation and Energy Workshop on June 27 and discussing a potential Energy Industry Mission to Malaysia immediately before the Malaysian Business Mission in October. If there is time\, we will also review the 2018 Energy Committee Work Plan (available here).\n\n\n\nPlease register before COB Monday\, July 2\, 2018. If you have any questions or would like to suggest an item to be discussed on the call\, please contact Riley Smith at rsmith@usasean.org.
X-ALT-DESC;FMTTYPE=text/html:Please join us for the second Energy Committee Quarterly Call of 2018. During the call Mr. Ali Al-Saffar\, Energy Analyst at the International Energy Agency&#39\;s Directorate of Global Economics and one of the authors of the IEA&#39\;s Southeast Asia Energy Outlook 2017\, will provide a briefing on energy trends in Southeast Asia. A Q&amp\;A session will follow the briefing. Mr. Al-Saffar&#39\;s official bio can be found <a href="https://chambermaster.blob.core.windows.net/userfiles/UserFiles/chambers/9078/File/AliAl-SaffarBiography.pdf">here</a>.<br />\n<br />\nThe remainder of the call will be dedicated to reviewing the Council&#39\;s participation in the ASEAN-IEA Digitalisation and Energy Workshop on June 27 and discussing a potential Energy Industry Mission to Malaysia immediately before the Malaysian Business Mission in October. If there is time\, we will also review the 2018 Energy Committee Work Plan (available <a href="https://chambermaster.blob.core.windows.net/userfiles/UserFiles/chambers/9078/File/2018EnergyWorkPlan1.pdf">here</a>).<br />\n<br />\n<span style="color:#FF0000\;">Please register <strong><u>before</u> COB Monday\, July 2\, 2018</strong></span>. If you have any questions or would like to suggest an item to be discussed on the call\, please contact Riley Smith at rsmith@usasean.org.
LOCATION:Call-in details and agenda will be distributed to registrants prior to the call.
UID:e.9078.7610
SEQUENCE:3
DTSTAMP:20260420T014835Z
URL:http://usasean.memberzone.com/events/details/energy-committee-quarterly-call-7610
END:VEVENT

END:VCALENDAR
