BEGIN:VCALENDAR
VERSION:2.0
PRODID:-//ChamberMaster//Event Calendar 2.0//EN
METHOD:PUBLISH
X-PUBLISHED-TTL:P3D
REFRESH-INTERVAL:P3D
CALSCALE:GREGORIAN
BEGIN:VEVENT
DTSTART:20201201T000000Z
DTEND:20201201T010000Z
X-MICROSOFT-CDO-ALLDAYEVENT:FALSE
SUMMARY:Energy Committee Briefing with ASEAN Centre for Energy
DESCRIPTION:US-ABC Energy Briefing\n\nwith\n\nDr. Nuki Agya Utama\n\nExecutive Director of ASEAN Centre for Energy
X-ALT-DESC;FMTTYPE=text/html:<span style="font-family: arial\; font-size: 21.3333px\; font-weight: 700\; letter-spacing: 1px\; text-align: center\;">US-ABC Energy Briefing</span><br style="font-family: arial\; font-size: 21.3333px\; font-weight: 700\; letter-spacing: 1px\; text-align: center\;" />\n<span style="font-family: arial\; font-weight: 700\; letter-spacing: 1px\; text-align: center\; font-size: 16px\;">with</span><br style="font-family: arial\; font-size: 21.3333px\; font-weight: 700\; letter-spacing: 1px\; text-align: center\;" />\n<span style="font-family: arial\; font-size: 21.3333px\; font-weight: 700\; letter-spacing: 1px\; text-align: center\;">Dr. Nuki Agya Utama</span><br style="font-family: arial\; font-size: 21.3333px\; font-weight: 700\; letter-spacing: 1px\; text-align: center\;" />\n<span style="font-family: arial\; font-size: 21.3333px\; font-weight: 700\; letter-spacing: 1px\; text-align: center\;">Executive Director of ASEAN Centre for Energy</span>
LOCATION:Dial-in details: https://usasean.zoom.us/j/92744589679?pwd=cFFJck1qSVh0NXQzU1Ewb2doR3lidz09 Meeting ID: 927 4458 9679 Password: 144910 Other Dial in Options: One tap mobile 8884754499\,\,92744589679# US Toll-free Dial by your location 888 475 4499 US Toll-free +65 3165 1065 Singapore 800 852 6054 Singapore Toll-free +60 3 9212 1727 Malaysia +62 21 3950 1721 Indonesia +63 92 3099 0478 Philippines +66 2018 2486 Thailand +84 28 4458 2373 Viet Nam 1228 0906 Viet Nam Toll-free Meeting ID: 927 4458 9679 Password: 144910 Find your local number: https://usasean.zoom.us/u/acpgOXHNri Join by SIP 92744589679@zoomcrc.com Join by H.323 162.255.37.11 (US West) 162.255.36.11 (US East) 213.19.144.110 (Amsterdam Netherlands) 213.244.140.110 (Germany) 103.122.166.55 (Australia) 149.137.40.110 (Singapore) 69.174.57.160 (Canada) 207.226.132.110 (Japan) Meeting ID: 927 4458 9679 Password: 144910 Join by Skype for Business https://usasean.zoom.us/skype/92744589679
UID:e.9078.8348
SEQUENCE:3
DTSTAMP:20260423T212017Z
URL:http://usasean.memberzone.com/events/details/energy-committee-briefing-with-asean-centre-for-energy-8348
END:VEVENT

END:VCALENDAR
