BEGIN:VCALENDAR
VERSION:2.0
PRODID:-//ChamberMaster//Event Calendar 2.0//EN
METHOD:PUBLISH
X-PUBLISHED-TTL:P3D
REFRESH-INTERVAL:P3D
CALSCALE:GREGORIAN
BEGIN:VEVENT
DTSTART;VALUE=DATE:20240513
DTEND;VALUE=DATE:20240517
TRANSP:TRANSPARENT
X-MICROSOFT-CDO-ALLDAYEVENT:TRUE
SUMMARY:East Malaysia Business Mission
DESCRIPTION:Registration: bmm.usasean.org\n\nPlease set up your account here: https://usaseanbusinesscouncil.growthzoneapp.com/MIC/create\n\nand use your new login details to register for the missions.
X-ALT-DESC;FMTTYPE=text/html:<p><span style="font-size: 14px\;"><span style="font-family: arial\;">Registration:&nbsp\;bmm.usasean.org</span></span></p>\n\n<p><span style="font-size: 14px\;"><span style="font-family: arial\;"><span style="caret-color: rgb(33\, 33\, 33)\; color: rgb(33\, 33\, 33)\; text-align: justify\;">Please set up your account here:&nbsp\;</span>https://usaseanbusinesscouncil.growthzoneapp.com/MIC/create<br />\n<span style="caret-color: rgb(33\, 33\, 33)\; color: rgb(33\, 33\, 33)\; text-align: justify\;">and use your new login details&nbsp\;to register for the&nbsp\;</span><span class="outlook-search-highlight" data-markjs="true" style="caret-color: rgb(33\, 33\, 33)\; color: rgb(33\, 33\, 33)\; text-align: justify\;">mission</span><span style="caret-color: rgb(33\, 33\, 33)\; color: rgb(33\, 33\, 33)\; text-align: justify\;">s.&nbsp\;</span></span></span></p>\n
LOCATION:
UID:e.9078.9286
SEQUENCE:3
DTSTAMP:20260422T091644Z
URL:http://usasean.memberzone.com/events/details/east-malaysia-business-mission-9286
END:VEVENT

END:VCALENDAR
