BEGIN:VCALENDAR
VERSION:2.0
PRODID:-//ChamberMaster//Event Calendar 2.0//EN
METHOD:PUBLISH
X-PUBLISHED-TTL:P3D
REFRESH-INTERVAL:P3D
CALSCALE:GREGORIAN
BEGIN:VEVENT
DTSTART;VALUE=DATE:20190729
DTEND;VALUE=DATE:20190731
TRANSP:TRANSPARENT
X-MICROSOFT-CDO-ALLDAYEVENT:TRUE
SUMMARY:Door-knock Mission for Vietnam OCC Regulation
DESCRIPTION:Following the Council's update on the draft decree to amend Decree 06/2016 on Radio and Television Services\, which seeks to regulate Online Curated Content (OCC) such as Streaming Video on Demand (SVOD) and streaming music\, the Council is organizing an emergency door-knock mission to engage with the Office of the Government of Vietnam and other relevant agencies on July 29   30\, 2019. The purpose of the mission is to share our concerns about the draft decree and present our recommendations to the decision makers.
X-ALT-DESC;FMTTYPE=text/html:<span style="font-family:arial\,sans-serif\;"><span style="font-size:12.0pt\;">Following the Council&#39\;s update on the draft decree to amend Decree 06/2016 on Radio and Television Services\, which seeks to regulate Online Curated Content (OCC) such as Streaming Video on Demand (SVOD) and streaming music\, the Council is organizing an emergency door-knock mission to engage with the Office of the Government of Vietnam and other relevant agencies on July 29 &ndash\; 30\, 2019. The purpose of the mission is to share our concerns about the draft decree and present our recommendations to the decision makers.&nbsp\;</span></span>
LOCATION:
UID:e.9078.7972
SEQUENCE:3
DTSTAMP:20260425T001930Z
URL:http://usasean.memberzone.com/events/details/door-knock-mission-for-vietnam-occ-regulation-7972
END:VEVENT

END:VCALENDAR
