BEGIN:VCALENDAR
VERSION:2.0
PRODID:-//ChamberMaster//Event Calendar 2.0//EN
METHOD:PUBLISH
X-PUBLISHED-TTL:P3D
REFRESH-INTERVAL:P3D
CALSCALE:GREGORIAN
BEGIN:VEVENT
DTSTART;VALUE=DATE:20181024
DTEND;VALUE=DATE:20181027
TRANSP:TRANSPARENT
X-MICROSOFT-CDO-ALLDAYEVENT:TRUE
SUMMARY:Door-knock Mission for LOCS 2018
DESCRIPTION:Many members also want to have the door-knock mission sooner rather than later to pre-empt MPS from officially issuing the restrictive draft\, an inclination that just got clearer with the latest draft. We therefore propose that the mission will take place in Hanoi on Oct. 24   26.
X-ALT-DESC;FMTTYPE=text/html:<span style="font-family:calibri light\,sans-serif\;"><span style="font-size:11.0pt\;">Many members also want to have the door-knock mission sooner rather than later to pre-empt MPS from officially issuing the restrictive draft\, an inclination that just got clearer with the latest draft. We therefore propose that the mission will take place in Hanoi on Oct. 24 &ndash\; 26.&nbsp\;</span></span>
LOCATION:Hanoi\, Vietnam
UID:e.9078.7724
SEQUENCE:3
DTSTAMP:20260420T070142Z
URL:http://usasean.memberzone.com/events/details/door-knock-mission-for-locs-2018-7724
END:VEVENT

END:VCALENDAR
