BEGIN:VCALENDAR
VERSION:2.0
PRODID:-//ChamberMaster//Event Calendar 2.0//EN
METHOD:PUBLISH
X-PUBLISHED-TTL:P3D
REFRESH-INTERVAL:P3D
CALSCALE:GREGORIAN
BEGIN:VEVENT
DTSTART:20130808T183000Z
DTEND:20130808T193000Z
X-MICROSOFT-CDO-ALLDAYEVENT:FALSE
SUMMARY:Discussion with Vietnam Customs
DESCRIPTION:The purpose of this meeting is to share experiences the private sector has had working with Vietnam Customs. This could include providing ideas on what US-CBP does in terms of AEO/CBP to make things easier for US traders\, given that the focus of the Vietnam Customs' study tour is on the US-CBP Customs-Business and Authorized Economic Operators programs. Vietnam Customs would also be interested in hearing the private sector's experiences with other Customs services in their global operations.\n\n\n\nThis meeting is a component of a study tour under the ASW Project to meet with US-CBP and other relevant organizations on developing customs-business partnerships\, vis-a-vis transparent\, uniform processes and procedures and the concept of the trusted trader with an emphasis on building and leveraging voluntary compliance systems.
X-ALT-DESC;FMTTYPE=text/html:The purpose of this meeting is to share experiences the private sector has had working with Vietnam Customs. This could include providing ideas on what US-CBP does in terms of AEO/CBP to make things easier for US traders\, given that the focus of the Vietnam Customs&#39\; study tour is on the US-CBP Customs-Business and Authorized Economic Operators programs. Vietnam Customs would also be interested in hearing the private sector&#39\;s experiences with other Customs services in their global operations.<br />\n<br />\nThis meeting is a component of a study tour under the ASW Project to meet with US-CBP and other relevant organizations on developing customs-business partnerships\, vis-a-vis transparent\, uniform processes and procedures and the concept of the trusted trader with an emphasis on building and leveraging voluntary compliance systems.&nbsp\;
LOCATION:2101 Wilson Blvd\, St 1200 Arlington\, VA 22201
UID:e.9078.880
SEQUENCE:3
DTSTAMP:20260421T211234Z
URL:http://usasean.memberzone.com/events/details/discussion-with-vietnam-customs-08-08-2013-880
END:VEVENT

END:VCALENDAR
