BEGIN:VCALENDAR
VERSION:2.0
PRODID:-//ChamberMaster//Event Calendar 2.0//EN
METHOD:PUBLISH
X-PUBLISHED-TTL:P3D
REFRESH-INTERVAL:P3D
CALSCALE:GREGORIAN
BEGIN:VEVENT
DTSTART:20180703T041500Z
DTEND:20180703T053000Z
X-MICROSOFT-CDO-ALLDAYEVENT:FALSE
SUMMARY:Discussion with the House Committee on Appropriations Featuring Chairman Rodney P. Frelinghuysen
DESCRIPTION:Briefing with Representatives from the House Committee on Appropriations\, featuring Chairman Rodney P. Frelinghuysen
X-ALT-DESC;FMTTYPE=text/html:Briefing with Representatives from the House Committee on Appropriations\, featuring Chairman Rodney P. Frelinghuysen&nbsp\;
LOCATION:AmCham Singapore\,1 Scotts Road\, Shaw Centre #23-03/04/05\, Singapore 228208
UID:e.9078.7611
SEQUENCE:3
DTSTAMP:20260420T034015Z
URL:http://usasean.memberzone.com/events/details/discussion-with-the-house-committee-on-appropriations-featuring-chairman-rodney-p-frelinghuysen-7611
END:VEVENT

END:VCALENDAR
