BEGIN:VCALENDAR
VERSION:2.0
PRODID:-//ChamberMaster//Event Calendar 2.0//EN
METHOD:PUBLISH
X-PUBLISHED-TTL:P3D
REFRESH-INTERVAL:P3D
CALSCALE:GREGORIAN
BEGIN:VEVENT
DTSTART:20130314T150000Z
DTEND:20130314T160000Z
X-MICROSOFT-CDO-ALLDAYEVENT:FALSE
SUMMARY:Discussion with Mr. Nirut Kunnawat\, Cheif Advisor to Ministry of Science and Technology\, Thailand
DESCRIPTION:
X-ALT-DESC;FMTTYPE=text/html:
LOCATION:
UID:e.9078.730
SEQUENCE:3
DTSTAMP:20260422T061718Z
URL:http://usasean.memberzone.com/events/details/discussion-with-mr-nirut-kunnawat-cheif-advisor-to-ministry-of-science-and-technology-thailand-03-14-2013-730
END:VEVENT

END:VCALENDAR
