BEGIN:VCALENDAR
VERSION:2.0
PRODID:-//ChamberMaster//Event Calendar 2.0//EN
METHOD:PUBLISH
X-PUBLISHED-TTL:P3D
REFRESH-INTERVAL:P3D
CALSCALE:GREGORIAN
BEGIN:VEVENT
DTSTART;VALUE=DATE:20120917
DTEND;VALUE=DATE:20120918
TRANSP:TRANSPARENT
X-MICROSOFT-CDO-ALLDAYEVENT:TRUE
SUMMARY:Discussion with Indonesia's Directorate General of Customs and Excise - Sep 17 2012
DESCRIPTION:
X-ALT-DESC;FMTTYPE=text/html:
LOCATION:
UID:e.9078.372
SEQUENCE:3
DTSTAMP:20260424T185633Z
URL:http://usasean.memberzone.com/events/details/discussion-with-indonesia-s-directorate-general-of-customs-and-excise-sep-17-2012-09-17-2012-372
END:VEVENT

END:VCALENDAR
