BEGIN:VCALENDAR
VERSION:2.0
PRODID:-//ChamberMaster//Event Calendar 2.0//EN
METHOD:PUBLISH
X-PUBLISHED-TTL:P3D
REFRESH-INTERVAL:P3D
CALSCALE:GREGORIAN
BEGIN:VEVENT
DTSTART;VALUE=DATE:20120918
DTEND;VALUE=DATE:20120919
TRANSP:TRANSPARENT
X-MICROSOFT-CDO-ALLDAYEVENT:TRUE
SUMMARY:Discussion with H.E. Muliaman Hadad\, Chair of OJK Indonesia - Sep 18 2012
DESCRIPTION:
X-ALT-DESC;FMTTYPE=text/html:
LOCATION:
UID:e.9078.370
SEQUENCE:3
DTSTAMP:20260424T201158Z
URL:http://usasean.memberzone.com/events/details/discussion-with-h-e-muliaman-hadad-chair-of-ojk-indonesia-sep-18-2012-09-18-2012-370
END:VEVENT

END:VCALENDAR
