BEGIN:VCALENDAR
VERSION:2.0
PRODID:-//ChamberMaster//Event Calendar 2.0//EN
METHOD:PUBLISH
X-PUBLISHED-TTL:P3D
REFRESH-INTERVAL:P3D
CALSCALE:GREGORIAN
BEGIN:VEVENT
DTSTART:20130510T180000Z
DTEND:20130510T193000Z
X-MICROSOFT-CDO-ALLDAYEVENT:FALSE
SUMMARY:Discussion with Frederick Helfrich\, U.S. Department of Commerce
DESCRIPTION:Frederick Helfrich of the U.S. Commerce Department's Trade Advocacy Center is visiting Manila on May 9th and 10th as part of the Trade Winds Asia Mission.  The Trade Winds Asia Mission also includes stops in South Korea\, Hong Kong\, Japan\, and Taiwan.  \n\n \n\nMr. Helfrich handles U.S. private sector requests  for U.S. government advocacy for foreign government funded projects.  U.S. companies bidding on Philippine government projects will benefit from Mr. Helfrich's perspectives on how the U.S. government can offer support.
X-ALT-DESC;FMTTYPE=text/html:<span style="font-family: arial\,sans-serif\;"><span style="font-size: medium\;">Frederick Helfrich of the U.S. Commerce Department&rsquo\;s Trade Advocacy Center is visiting Manila on May 9</span></span><sup><span style="font-size: small\;">th</span></sup><span style="font-size: medium\;"> and 10</span><sup><span style="font-size: small\;">th</span></sup><span style="font-size: medium\;"> as part of the Trade Winds Asia Mission.&nbsp\; The Trade Winds Asia Mission also includes stops in South Korea\, Hong Kong\, Japan\, and Taiwan.&nbsp\; </span><br />\n&nbsp\;<br />\n<span style="font-size: medium\;"><span style="font-family: arial\,sans-serif\;">Mr. Helfrich handles U.S. private sector requests&nbsp\; for U.S. government advocacy for foreign government funded projects.&nbsp\; U.S. companies bidding on Philippine government projects will benefit from Mr. Helfrich&rsquo\;s perspectives on how the U.S. government can offer support.&nbsp\;&nbsp\;</span></span><br />\n
LOCATION:2/F\, Amcham Hall\, Corinthian Plaza Paseo de Roxas\, Makati City
UID:e.9078.771
SEQUENCE:3
DTSTAMP:20260422T003642Z
URL:http://usasean.memberzone.com/events/details/discussion-with-frederick-helfrich-u-s-department-of-commerce-05-10-2013-771
END:VEVENT

END:VCALENDAR
