BEGIN:VCALENDAR
VERSION:2.0
PRODID:-//ChamberMaster//Event Calendar 2.0//EN
METHOD:PUBLISH
X-PUBLISHED-TTL:P3D
REFRESH-INTERVAL:P3D
CALSCALE:GREGORIAN
BEGIN:VEVENT
DTSTART:20231213T140000Z
DTEND:20231213T150000Z
X-MICROSOFT-CDO-ALLDAYEVENT:FALSE
SUMMARY:Discussion on the Impact of Global Geopolitics on Business Environments in Indonesia and Malaysia
DESCRIPTION:
X-ALT-DESC;FMTTYPE=text/html:
LOCATION:Discussion on the Impacts of Global Geopolitics on Business Environments in Indonesia and Malaysia
UID:e.9078.9222
SEQUENCE:3
DTSTAMP:20260421T230555Z
URL:http://usasean.memberzone.com/events/details/discussion-on-the-impact-of-global-geopolitics-on-business-environments-in-indonesia-and-malaysia-9222
END:VEVENT

END:VCALENDAR
