BEGIN:VCALENDAR
VERSION:2.0
PRODID:-//ChamberMaster//Event Calendar 2.0//EN
METHOD:PUBLISH
X-PUBLISHED-TTL:P3D
REFRESH-INTERVAL:P3D
CALSCALE:GREGORIAN
BEGIN:VEVENT
DTSTART:20220223T020000Z
DTEND:20220223T030000Z
X-MICROSOFT-CDO-ALLDAYEVENT:FALSE
SUMMARY:Discussion on Proposed Approach to the Basel Convention
DESCRIPTION:Call on the Council's proposed approach to the Basel Convention
X-ALT-DESC;FMTTYPE=text/html:Call on the Council's proposed approach to the Basel Convention
LOCATION:
UID:e.9078.8710
SEQUENCE:3
DTSTAMP:20260422T193653Z
URL:http://usasean.memberzone.com/events/details/discussion-on-proposed-approach-to-the-basel-convention-8710
END:VEVENT

END:VCALENDAR
