BEGIN:VCALENDAR
VERSION:2.0
PRODID:-//ChamberMaster//Event Calendar 2.0//EN
METHOD:PUBLISH
X-PUBLISHED-TTL:P3D
REFRESH-INTERVAL:P3D
CALSCALE:GREGORIAN
BEGIN:VEVENT
DTSTART:20150319T133000Z
DTEND:20150319T143000Z
X-MICROSOFT-CDO-ALLDAYEVENT:FALSE
SUMMARY:Discussion on Infrastructure Opportunities in Indonesia with The Honorable Robert Blake
DESCRIPTION:President Joko Widodo has stated that the rapid development of energy\, transport and ICT infrastructure is a top priority for his administration.  Join Ambassador Blake and the Council for a Direct Line call on projects the government has prepared.  There will be a specific focus on energy infrastructure projects during the discussion.  The U.S. embassy in Jakarta has provided the Council a list of those projects.  The list can be found here.  Please note: This list is an unofficial translation and not for citation or attribution.\n\n\n\nTo participate in the call\, please register via the link above.  Please also reply by March 16 to JakartaDirectLine@state.gov with the following information: 1) name 2) email 3) title and affiliation 4) location from which you will join the call.\n\n\n\nYou may also send questions in advance that you would like Ambassador Blake to address on the call.  Due to the large volume of participants\, please dial in 10 or more minutes before the call begins.
X-ALT-DESC;FMTTYPE=text/html:<span style="font-family:arial\,sans-serif\;"><span style="font-size:12.0pt\;">President&nbsp\;Joko&nbsp\;Widodo&nbsp\;has stated that&nbsp\;the rapid development of energy\, transport and ICT&nbsp\;infrastructure is a top priority for his administration. &nbsp\;Join Ambassador Blake&nbsp\;and the Council for a Direct Line call on projects the government has prepared. &nbsp\;There will be a specific focus on energy infrastructure projects during the discussion. &nbsp\;The U.S. embassy in Jakarta has provided the Council a list of those projects. &nbsp\;The list can be found <strong><a href="http://cloud.chambermaster.com/userfiles/UserFiles/chambers/9078/File/PLNProjectList.pdf">here</a></strong>. &nbsp\;<strong>Please note:</strong>&nbsp\;This list is an unofficial translation and not for citation or attribution.<br />\n<br />\nTo participate in the call\, please register via the link above. &nbsp\;Please also <strong>reply by March 16</strong> to <a href="mailto:JakartaDirectLine@state.gov">JakartaDirectLine@state.gov</a> with the following information: 1) name 2) email 3) title and affiliation 4) location from which you will join the call.<br />\n<br />\nYou may also send questions in advance that you would like Ambassador Blake to address on the call. &nbsp\;Due to the large volume of participants\, please dial in 10 or more minutes before the call begins.</span></span>
LOCATION:
UID:e.9078.1505
SEQUENCE:3
DTSTAMP:20260419T172010Z
URL:http://usasean.memberzone.com/events/details/discussion-on-infrastructure-opportunities-in-indonesia-with-the-honorable-robert-blake-03-19-2015-1505
END:VEVENT

END:VCALENDAR
