BEGIN:VCALENDAR
VERSION:2.0
PRODID:-//ChamberMaster//Event Calendar 2.0//EN
METHOD:PUBLISH
X-PUBLISHED-TTL:P3D
REFRESH-INTERVAL:P3D
CALSCALE:GREGORIAN
BEGIN:VEVENT
DTSTART:20230523T170000Z
DTEND:20230523T200000Z
X-MICROSOFT-CDO-ALLDAYEVENT:FALSE
SUMMARY:Discussion on AI for Public Good: Policy and Regulation
DESCRIPTION:We cordially invite you to join us for a seminar that aims to explore the transformative potential of AI in empowering Thailand to leverage its strengths\, tackle challenges\, and seize opportunities within ASEAN. With a focus on the adoption of AI to promote digital government and vital industries\, this event seeks to produce policy recommendations that can collectively establish an outline of Thailand's national AI strategy. Don't miss out on this opportunity to be a part of shaping the future of Thailand's AI landscape.
X-ALT-DESC;FMTTYPE=text/html:<p style="margin:0in"><span style="font-size:10.0pt\;font-family:&quot\;Arial&quot\;\,sans-serif\;\ncolor:black">We cordially invite you to join us for a seminar that aims to explore the transformative potential of AI in empowering Thailand to leverage its strengths\, tackle challenges\, and seize opportunities within ASEAN. With a focus on the adoption of AI to promote digital government and vital industries\, this event seeks to produce policy recommendations that can collectively establish an outline of Thailand&#39\;s national AI strategy. Don&#39\;t miss out on this opportunity to be a part of shaping the future of Thailand&#39\;s AI landscape.<o:p></o:p></span></p>\n\n<p style="margin:0in\;line-height:16.5pt"><span style="font-size:10.0pt\;\nfont-family:&quot\;Arial&quot\;\,sans-serif\;color:black">&nbsp\;</span></p>\n
LOCATION:
UID:e.9078.9038
SEQUENCE:3
DTSTAMP:20260421T124014Z
URL:http://usasean.memberzone.com/events/details/discussion-on-ai-for-public-good-policy-and-regulation-9038
END:VEVENT

END:VCALENDAR
